BEGIN:VCALENDAR
VERSION:2.0
PRODID:-//Alliance Francaise - ECPv6.15.20//NONSGML v1.0//EN
CALSCALE:GREGORIAN
METHOD:PUBLISH
X-ORIGINAL-URL:https://afatl.com
X-WR-CALDESC:Events for Alliance Francaise
REFRESH-INTERVAL;VALUE=DURATION:PT1H
X-Robots-Tag:noindex
X-PUBLISHED-TTL:PT1H
BEGIN:VTIMEZONE
TZID:America/Chicago
BEGIN:DAYLIGHT
TZOFFSETFROM:-0600
TZOFFSETTO:-0500
TZNAME:CDT
DTSTART:20220313T080000
END:DAYLIGHT
BEGIN:STANDARD
TZOFFSETFROM:-0500
TZOFFSETTO:-0600
TZNAME:CST
DTSTART:20221106T070000
END:STANDARD
BEGIN:DAYLIGHT
TZOFFSETFROM:-0600
TZOFFSETTO:-0500
TZNAME:CDT
DTSTART:20230312T080000
END:DAYLIGHT
BEGIN:STANDARD
TZOFFSETFROM:-0500
TZOFFSETTO:-0600
TZNAME:CST
DTSTART:20231105T070000
END:STANDARD
BEGIN:DAYLIGHT
TZOFFSETFROM:-0600
TZOFFSETTO:-0500
TZNAME:CDT
DTSTART:20240310T080000
END:DAYLIGHT
BEGIN:STANDARD
TZOFFSETFROM:-0500
TZOFFSETTO:-0600
TZNAME:CST
DTSTART:20241103T070000
END:STANDARD
END:VTIMEZONE
BEGIN:VEVENT
DTSTART;TZID=America/Chicago:20231209T150000
DTEND;TZID=America/Chicago:20231209T180000
DTSTAMP:20260423T102832
CREATED:20231127T172740Z
LAST-MODIFIED:20231127T172740Z
UID:4885-1702134000-1702144800@afatl.com
SUMMARY:Franco-German Cultural Center Open House and Holiday Party
DESCRIPTION:Join Alliance Française and Goethe Zentrum Atlanta for our 2023 Open House and Holiday Party! \nLanguage students\, instructors\, staff\, supporters\, neighbors and friends—We welcome you all to a festive afternoon full of holiday traditions\, treats and celebrations of the joyful season to come. \nFind fun\, holiday films\, music\, crafts and more at our Holiday Party this year! \n⏰ Time: 3:00 – 6:00pm  \n📍Location: The Franco-German Cultural Center\, 233 Peachtree St. NE\, Suite #100 Atlanta\, GA 30303 \n📆 Date: Saturday\, December 9th
URL:https://afatl.com/event/franco-german-cultural-center-open-house-and-holiday-party/
LOCATION:Alliance Francaise Atlanta\, 233 Peachtree St. NE\, Atlanta\, GA\, 30303\, United States
ATTACH;FMTTYPE=image/png:https://afatl.com/wp-content/uploads/2023/11/IMG_5816.png
END:VEVENT
BEGIN:VEVENT
DTSTART;TZID=America/Chicago:20231213T183000
DTEND;TZID=America/Chicago:20231213T210000
DTSTAMP:20260423T102832
CREATED:20231207T203542Z
LAST-MODIFIED:20231207T203542Z
UID:4906-1702492200-1702501200@afatl.com
SUMMARY:December 2023 CineClub
DESCRIPTION:Please join the Alliance Française Atlanta CinéClub for a screening of the hilarious comedy\, Antoinette dans les Cévennes (2020)\, by Caroline Vignal. \nThe #1 comedy hit of the 2021 AF French Film Festival\, writer/director Caroline Vignal’s hilarious and life-affirming Antoinette dans les Cévennesstars the wonderful Laure Calamy (Call My Agent!\, Aurore) as a woman who finds herself on a journey of self-discovery in somewhat unexpected circumstances. \nPARKING: Validation provided for parking at the International Parking Garage (Across the street from the Tin Lizzy’s restaurant on Andrew Young Blvd.) \nTime: 6:30pm – 9:00pm \nDate: Wednesday\, December 13th 2023 \nLocation: Alliance Française Atlanta\, Peachtree Location— \n233 Peachtree St. Suite #100 Atlanta\, GA\, 30303 \nThis screening is free and open to the public\, but requires registration. Sign up here to obtain your free tickets!
URL:https://afatl.com/event/december-2023-cineclub/
LOCATION:Alliance Francaise Atlanta\, 233 Peachtree St. NE\, Atlanta\, GA\, 30303\, United States
ATTACH;FMTTYPE=image/jpeg:https://afatl.com/wp-content/uploads/2023/12/IMG_5913.jpeg
END:VEVENT
END:VCALENDAR