BEGIN:VCALENDAR
VERSION:2.0
PRODID:-//Alliance Francaise - ECPv6.15.20//NONSGML v1.0//EN
CALSCALE:GREGORIAN
METHOD:PUBLISH
X-WR-CALNAME:Alliance Francaise
X-ORIGINAL-URL:https://afatl.com
X-WR-CALDESC:Events for Alliance Francaise
REFRESH-INTERVAL;VALUE=DURATION:PT1H
X-Robots-Tag:noindex
X-PUBLISHED-TTL:PT1H
BEGIN:VTIMEZONE
TZID:America/New_York
BEGIN:DAYLIGHT
TZOFFSETFROM:-0500
TZOFFSETTO:-0400
TZNAME:EDT
DTSTART:20220313T070000
END:DAYLIGHT
BEGIN:STANDARD
TZOFFSETFROM:-0400
TZOFFSETTO:-0500
TZNAME:EST
DTSTART:20221106T060000
END:STANDARD
BEGIN:DAYLIGHT
TZOFFSETFROM:-0500
TZOFFSETTO:-0400
TZNAME:EDT
DTSTART:20230312T070000
END:DAYLIGHT
BEGIN:STANDARD
TZOFFSETFROM:-0400
TZOFFSETTO:-0500
TZNAME:EST
DTSTART:20231105T060000
END:STANDARD
BEGIN:DAYLIGHT
TZOFFSETFROM:-0500
TZOFFSETTO:-0400
TZNAME:EDT
DTSTART:20240310T070000
END:DAYLIGHT
BEGIN:STANDARD
TZOFFSETFROM:-0400
TZOFFSETTO:-0500
TZNAME:EST
DTSTART:20241103T060000
END:STANDARD
END:VTIMEZONE
BEGIN:VTIMEZONE
TZID:America/Chicago
BEGIN:DAYLIGHT
TZOFFSETFROM:-0600
TZOFFSETTO:-0500
TZNAME:CDT
DTSTART:20220313T080000
END:DAYLIGHT
BEGIN:STANDARD
TZOFFSETFROM:-0500
TZOFFSETTO:-0600
TZNAME:CST
DTSTART:20221106T070000
END:STANDARD
BEGIN:DAYLIGHT
TZOFFSETFROM:-0600
TZOFFSETTO:-0500
TZNAME:CDT
DTSTART:20230312T080000
END:DAYLIGHT
BEGIN:STANDARD
TZOFFSETFROM:-0500
TZOFFSETTO:-0600
TZNAME:CST
DTSTART:20231105T070000
END:STANDARD
BEGIN:DAYLIGHT
TZOFFSETFROM:-0600
TZOFFSETTO:-0500
TZNAME:CDT
DTSTART:20240310T080000
END:DAYLIGHT
BEGIN:STANDARD
TZOFFSETFROM:-0500
TZOFFSETTO:-0600
TZNAME:CST
DTSTART:20241103T070000
END:STANDARD
END:VTIMEZONE
BEGIN:VEVENT
DTSTART;TZID=America/New_York:20230909T120000
DTEND;TZID=America/New_York:20230909T190000
DTSTAMP:20260423T154539
CREATED:20230630T164224Z
LAST-MODIFIED:20230801T152835Z
UID:4361-1694260800-1694286000@afatl.com
SUMMARY:French Market
DESCRIPTION:Grab your beret because the French Market is back in Atlanta on Saturday\, September 9th\, 2023! \nFrench Market Atlanta is a French-inspired open air market experience\, welcoming Atlanta’s top French\, Francophone\, and French-inspired vendors. Guests can expect a day of food\, crafters\, and music. This event offers fun and entertainment for all ages!  \nThis year will be extra special because we are bringing the French Market to the Buckhead Village District\, a stylish and welcoming haven with cobblestone streets\, outdoor communal spaces with lush greenery and bold\, European-inspired design. \nPlease note: This event is a fundraiser and all the proceeds support the educational and cultural programming of the Alliance Française of Atlanta\, premier provider of French language and culture to the metro-Atlanta community.
URL:https://afatl.com/event/french-market/
LOCATION:GA
CATEGORIES:Annual Event
ATTACH;FMTTYPE=image/png:https://afatl.com/wp-content/uploads/2023/08/French-Mkt-AF-Website-Homepage.png
END:VEVENT
BEGIN:VEVENT
DTSTART;TZID=America/Chicago:20230930T140000
DTEND;TZID=America/Chicago:20230930T153000
DTSTAMP:20260423T154539
CREATED:20230628T202320Z
LAST-MODIFIED:20230801T153425Z
UID:4481-1696082400-1696087800@afatl.com
SUMMARY:Rosa Masterclass
DESCRIPTION:An introduction to the history of the rose with Anastasia Sokolow. Virtual event\, September 30\, 2023. \nMASTERCLASS – The World of Fragrances: The Rose\, Queen of Flowers \nFrom Rosa to The Rose\, the Story of the Queen of Flowers: \nDive into the world of roses and facts\, myths and mysteries about the Queen of Flowers which has been fascinating painters\, poets\, doctors\, gardeners\, chemists\, botanists\, perfumers and chefs for centuries. \nYou will learn about\n– Rosa is one of the most ancient flowers\, its wide range of sizes\, colors\, shapes and textures\, and its complex genealogy to better understand how and why the flower has evolved\n– “Wild Roses”\, “Old Garden Roses”\, “Modern Roses” and how both nature and humans have contributed to such a wide variety of species\n– Rosa Damascena and Rosa Centifolia\, cultivated for their unique fragrance\, their history\, their specificities\, and the famous Rose Valleys where they are cultivated in France\, Bulgaria\, Turkey and Morocco.\n– the processes to obtain rose essential oil and absolute\n– the Sulékó language of scents and the messages conveyed by the rose.\nAs you discover Sulékó’s Vy Roza Eau de Parfum you will experience how rose essence comes into play in a perfume to narrate a story and to reflect the state of mind of a person. \n1 1/2 hr of class\nThe perfume designer is open to questions from the participants. \nEach participant receives\, by mail\, a box with all the material needed for the class:\n– one dried bud of Rosa Damascena\n– one vial of Rosa Damascena Essence diluted in alcohol (0\,1 ml)\n– one vial of Rosa Centifolia Absolue diluted in alcohol (0\,1 ml)\n– one spray-sample of Vy Roza Eau de Parfum (2ml)\n– paper blotters to discover the scent ingredients and the perfume\nThis material shall allow you to discover the facets of Rosa Damascena at its various stages: natural\, distilled and used by a perfume designer. \nLIMIT: 30 participants \nGoethe-Zentrum Atlanta Member Discount Event.\nSEE LINK BELOW \nA joint event with the Alliance Francaise.\nIn English. \nEach participant can invite 1 guest to join\, they will then share their screen and their material on the day of the masterclass. \nClick here to register
URL:https://afatl.com/event/rosa-masterclass/
LOCATION:GA
ATTACH;FMTTYPE=image/png:https://afatl.com/wp-content/uploads/2023/06/1-1.png
END:VEVENT
END:VCALENDAR