BEGIN:VCALENDAR
VERSION:2.0
PRODID:-//Alliance Francaise - ECPv6.15.20//NONSGML v1.0//EN
CALSCALE:GREGORIAN
METHOD:PUBLISH
X-WR-CALNAME:Alliance Francaise
X-ORIGINAL-URL:https://afatl.com
X-WR-CALDESC:Events for Alliance Francaise
REFRESH-INTERVAL;VALUE=DURATION:PT1H
X-Robots-Tag:noindex
X-PUBLISHED-TTL:PT1H
BEGIN:VTIMEZONE
TZID:America/Chicago
BEGIN:DAYLIGHT
TZOFFSETFROM:-0600
TZOFFSETTO:-0500
TZNAME:CDT
DTSTART:20220313T080000
END:DAYLIGHT
BEGIN:STANDARD
TZOFFSETFROM:-0500
TZOFFSETTO:-0600
TZNAME:CST
DTSTART:20221106T070000
END:STANDARD
BEGIN:DAYLIGHT
TZOFFSETFROM:-0600
TZOFFSETTO:-0500
TZNAME:CDT
DTSTART:20230312T080000
END:DAYLIGHT
BEGIN:STANDARD
TZOFFSETFROM:-0500
TZOFFSETTO:-0600
TZNAME:CST
DTSTART:20231105T070000
END:STANDARD
BEGIN:DAYLIGHT
TZOFFSETFROM:-0600
TZOFFSETTO:-0500
TZNAME:CDT
DTSTART:20240310T080000
END:DAYLIGHT
BEGIN:STANDARD
TZOFFSETFROM:-0500
TZOFFSETTO:-0600
TZNAME:CST
DTSTART:20241103T070000
END:STANDARD
END:VTIMEZONE
BEGIN:VEVENT
DTSTART;TZID=America/Chicago:20230816T183000
DTEND;TZID=America/Chicago:20230816T210000
DTSTAMP:20260423T173321
CREATED:20230724T153312Z
LAST-MODIFIED:20230731T145507Z
UID:4535-1692210600-1692219600@afatl.com
SUMMARY:Cinéclub - L'Année du Requin (Year of the Shark)
DESCRIPTION:Join Alliançe Française Atlanta for the third showing of the Alliance Française Cinéclub\, a monthly gathering to screen and discuss the best in French-language cinema! Created to highlight the diversity of French-language cinema and promote access to French films\, Cinéclub is a monthy event at the Alliance. Screenings\, held live in the auditorium of the Franco-German Center\, feature a mix of French classics\, new\, must-see releases\, and crowd-pleasers from France and elsewhere. \nPlease join us Wednesday\, August 16th – Reception at 6:30 pm\, followed by the screening (7PM) of L’Année du Requin (Year of the Shark)\, a French comedy directed by Ludovic & Zoran Boukherma\, from 7 to 9 pm. \nFREE event but spaces are limited.\nRegister HERE \nCheck our Upcoming Events page to see what’s showing next!
URL:https://afatl.com/event/4535/
LOCATION:Franco-German Cultural Center\, 223 Peachtree St NE\, Suite 100\, Atlanta\, GA\, 30303\, United States
ATTACH;FMTTYPE=image/jpeg:https://afatl.com/wp-content/uploads/2023/07/lanneeposter.jpg
END:VEVENT
END:VCALENDAR