BEGIN:VCALENDAR
VERSION:2.0
PRODID:-//Alliance Francaise - ECPv6.15.20//NONSGML v1.0//EN
CALSCALE:GREGORIAN
METHOD:PUBLISH
X-WR-CALNAME:Alliance Francaise
X-ORIGINAL-URL:https://afatl.com
X-WR-CALDESC:Events for Alliance Francaise
REFRESH-INTERVAL;VALUE=DURATION:PT1H
X-Robots-Tag:noindex
X-PUBLISHED-TTL:PT1H
BEGIN:VTIMEZONE
TZID:America/New_York
BEGIN:DAYLIGHT
TZOFFSETFROM:-0500
TZOFFSETTO:-0400
TZNAME:EDT
DTSTART:20200308T070000
END:DAYLIGHT
BEGIN:STANDARD
TZOFFSETFROM:-0400
TZOFFSETTO:-0500
TZNAME:EST
DTSTART:20201101T060000
END:STANDARD
BEGIN:DAYLIGHT
TZOFFSETFROM:-0500
TZOFFSETTO:-0400
TZNAME:EDT
DTSTART:20210314T070000
END:DAYLIGHT
BEGIN:STANDARD
TZOFFSETFROM:-0400
TZOFFSETTO:-0500
TZNAME:EST
DTSTART:20211107T060000
END:STANDARD
BEGIN:DAYLIGHT
TZOFFSETFROM:-0500
TZOFFSETTO:-0400
TZNAME:EDT
DTSTART:20220313T070000
END:DAYLIGHT
BEGIN:STANDARD
TZOFFSETFROM:-0400
TZOFFSETTO:-0500
TZNAME:EST
DTSTART:20221106T060000
END:STANDARD
BEGIN:DAYLIGHT
TZOFFSETFROM:-0500
TZOFFSETTO:-0400
TZNAME:EDT
DTSTART:20230312T070000
END:DAYLIGHT
BEGIN:STANDARD
TZOFFSETFROM:-0400
TZOFFSETTO:-0500
TZNAME:EST
DTSTART:20231105T060000
END:STANDARD
END:VTIMEZONE
BEGIN:VTIMEZONE
TZID:America/Chicago
BEGIN:DAYLIGHT
TZOFFSETFROM:-0600
TZOFFSETTO:-0500
TZNAME:CDT
DTSTART:20200308T080000
END:DAYLIGHT
BEGIN:STANDARD
TZOFFSETFROM:-0500
TZOFFSETTO:-0600
TZNAME:CST
DTSTART:20201101T070000
END:STANDARD
BEGIN:DAYLIGHT
TZOFFSETFROM:-0600
TZOFFSETTO:-0500
TZNAME:CDT
DTSTART:20210314T080000
END:DAYLIGHT
BEGIN:STANDARD
TZOFFSETFROM:-0500
TZOFFSETTO:-0600
TZNAME:CST
DTSTART:20211107T070000
END:STANDARD
BEGIN:DAYLIGHT
TZOFFSETFROM:-0600
TZOFFSETTO:-0500
TZNAME:CDT
DTSTART:20220313T080000
END:DAYLIGHT
BEGIN:STANDARD
TZOFFSETFROM:-0500
TZOFFSETTO:-0600
TZNAME:CST
DTSTART:20221106T070000
END:STANDARD
BEGIN:DAYLIGHT
TZOFFSETFROM:-0600
TZOFFSETTO:-0500
TZNAME:CDT
DTSTART:20230312T080000
END:DAYLIGHT
BEGIN:STANDARD
TZOFFSETFROM:-0500
TZOFFSETTO:-0600
TZNAME:CST
DTSTART:20231105T070000
END:STANDARD
END:VTIMEZONE
BEGIN:VEVENT
DTSTART;TZID=America/New_York:20220428T190000
DTEND;TZID=America/New_York:20220428T220000
DTSTAMP:20260423T155138
CREATED:20220420T150321Z
LAST-MODIFIED:20220420T150321Z
UID:2840-1651172400-1651183200@afatl.com
SUMMARY:L'événement / Happening - A special screening and discussion with Audrey Diwan
DESCRIPTION:Join us for the screening of the award-winning French film\, L’événement / Happening\, on April 28\, 2022 at 7:00 pm at Landmark Theaters\, Atlanta\, followed by a discussion with director Audrey Diwan in person \n \nAwarded the Golden Lion at the 2021 Venice Film Festival\, Audrey Diwan’s second film delivers a moving adaptation of the novel by the famous French writer Annie Ernaux\, L’événement. As part of Audrey Diwan’s US tour\, L’événement / Happening is screening at Atlanta’s Landmark Theatres Midtown Art Cinema on April 28th at 7pm. This screening will be followed by a discussion with Audrey Diwan. \nSYNOPSIS: France\, 1963. Anne is a bright young student with a promising future ahead of her. But when she falls pregnant\, she sees the opportunity to finish her studies and escape the constraints of her social background disappearing. With her final exams fast approaching and her belly growing\, Anne resolves to act\, even if she has to confront shame and pain\, even if she must risk prison to do so. \n 
URL:https://afatl.com/event/levenement-happening-a-special-screening-and-discussion-with-audrey-diwan/
LOCATION:Landmark Theaters\, 931 Monroe Dr NE\, Atlanta\, GA\, 30308\, United States
END:VEVENT
BEGIN:VEVENT
DTSTART;TZID=America/New_York:20220424T150000
DTEND;TZID=America/New_York:20220424T173000
DTSTAMP:20260423T155138
CREATED:20220420T150941Z
LAST-MODIFIED:20220420T150941Z
UID:2847-1650812400-1650821400@afatl.com
SUMMARY:Notre-Dame de Paris Truss Project: Exhibition Closing Gala
DESCRIPTION:Come see hands-on demonstrations and visual presentations of Notre-Dame de Paris’s wooden roof structure\, its history\, and how it was made. \nThree years after a devastating fire ripped through Notre Dame Cathedral in Paris\, the effort to restore the iconic landmark is on display in Atlanta through April 24. \nThis exhibition was at the Smithsonian Institution\, Catholic University and the National Building Museum in Washington D.C. in 2021 and is a unique opportunity for people in Atlanta to learn more about this historic work and the architectural and cultural heritage of Notre Dame de Paris. \nOn April 24\, learn about the tools\, methods\, and materials that would have been used to build this medieval architectural icon\, join in a hands-on demonstration of traditional timber framing raising techniques\, and discover how Handshouse Studio is bringing its educational mission to the task of recovering the heritage lost in the 2019 fire. \nRegister for this free event at https://www.eventbrite.com/e/notre-dame-de-paris-truss-project-day-of-demonstrations-and-presentations-tickets-312080510207?utm-campaign=social&utm-content=attendeeshare&utm-medium=discovery&utm-term=listing&utm-source=cp&aff=escb
URL:https://afatl.com/event/notre-dame-de-paris-truss-project-exhibition-closing-gala/
LOCATION:Millennium Gate Museum\, 395 17th Street Northwest\, Atlanta\, GA\, 30363\, United States
END:VEVENT
BEGIN:VEVENT
DTSTART;TZID=America/Chicago:20220319T200000
DTEND;TZID=America/Chicago:20220319T210000
DTSTAMP:20260423T155138
CREATED:20220214T171358Z
LAST-MODIFIED:20220214T171358Z
UID:2686-1647720000-1647723600@afatl.com
SUMMARY:Clyde Chabot: : Fille de Militaire (in French)
DESCRIPTION:Saturday\, March 19\, at 8pm : Fille de Militaire (in French) – White Hall 208 \n« My father is military\, a low ranking soldier. Here I am humorously\nquestioning how this may have affected my personality. The text\nsearches more widely the world of the army\, apparently so far from the\ntheatre\, its social\, familiar and intimate dimension. I play this show\nin duo with a musician with a real pleasure of variation and a certain\nimprovisation.» Clyde Chabot
URL:https://afatl.com/event/clyde-chabot-fille-de-militaire-in-french/
LOCATION:White Hall 208\, 301 Dowman Dr\, Atlanta\, GA\, 30322\, United States
END:VEVENT
BEGIN:VEVENT
DTSTART;TZID=America/Chicago:20220319T190000
DTEND;TZID=America/Chicago:20220319T200000
DTSTAMP:20260423T155138
CREATED:20220214T171106Z
LAST-MODIFIED:20220214T171438Z
UID:2684-1647716400-1647720000@afatl.com
SUMMARY:Clyde Chabot:  CHICAGO-reconstitution (in French)
DESCRIPTION:Saturday\, March 19\, at 7pm : CHICAGO-reconstitution (in french) – Math Science Building N306 \nCHICAGO-reconstitution is the story by Clyde Chabot of the premature\nbirth of her daughter\, in the United States in 2002. The medical world\,\nthe worries\, the joys and the potentials associated with the birth of this\nfragile being suddenly arise in a country that is not theirs. 16 years\nlater the child discovers her native land and looks at what constitute\nher. Clyde Chabot plays it in immersion in the public\, installed in the\nmanner of a speaking group.
URL:https://afatl.com/event/clyde-chabot-chicago-reconstitution-in-french/
LOCATION:Math Science Building N306\, 400 Dowman Dr\, Atlanta\, GA\, 30307\, United States
CATEGORIES:Around Town,General Event
END:VEVENT
BEGIN:VEVENT
DTSTART;TZID=America/Chicago:20220318T200000
DTEND;TZID=America/Chicago:20220318T210000
DTSTAMP:20260423T155138
CREATED:20220214T140028Z
LAST-MODIFIED:20220214T171553Z
UID:2682-1647633600-1647637200@afatl.com
SUMMARY:Clyde Chabot: A Soldier's Daughter
DESCRIPTION:Friday\, March 18\, at 8pm : A Soldier’s Daughter – White Hall 208 \n« My father is military\, a low ranking soldier. Here I am humorously\nquestioning how this may have affected my personality. The text\nsearches more widely the world of the army\, apparently so far from the\ntheatre\, its social\, familiar and intimate dimension. I play this show\nin duo with a musician with a real pleasure of variation and a certain\nimprovisation.» Clyde Chabot
URL:https://afatl.com/event/clyde-chabot-a-soldiers-daughter/
LOCATION:White Hall 208\, 301 Dowman Dr\, Atlanta\, GA\, 30322\, United States
CATEGORIES:Around Town,General Event
END:VEVENT
BEGIN:VEVENT
DTSTART;TZID=America/Chicago:20220318T190000
DTEND;TZID=America/Chicago:20220318T200000
DTSTAMP:20260423T155138
CREATED:20220214T170725Z
LAST-MODIFIED:20220214T171608Z
UID:2679-1647630000-1647633600@afatl.com
SUMMARY:Clyde Chabot: CHICAGO-reconstitution
DESCRIPTION:Friday\, March 18\, at 7pm : CHICAGO-reconstitution – Math Science Building N306 \nCHICAGO-reconstitution is the story by Clyde Chabot of the premature\nbirth of her daughter\, in the United States in 2002. The medical world\,\nthe worries\, the joys and the potentials associated with the birth of this\nfragile being suddenly arise in a country that is not theirs. 16 years\nlater the child discovers her native land and looks at what constitute\nher. Clyde Chabot plays it in immersion in the public\, installed in the\nmanner of a speaking group.
URL:https://afatl.com/event/clyde-chabot-chicago-reconstitution/
LOCATION:Math Science Building N306\, 400 Dowman Dr\, Atlanta\, GA\, 30307\, United States
END:VEVENT
BEGIN:VEVENT
DTSTART;TZID=America/Chicago:20220317T180000
DTEND;TZID=America/Chicago:20220317T190000
DTSTAMP:20260423T155138
CREATED:20220214T161654Z
LAST-MODIFIED:20220214T171629Z
UID:2676-1647540000-1647543600@afatl.com
SUMMARY:Clyde Chabot: Tunisia (in French)
DESCRIPTION:Thursday\, March 17\, at 6pm : TUNISIA (in french) – White Hall 208 \nWith TUNISIA\, Clyde Chabot revisits her family history of migration\,\nfrom Sicily towards Tunisia then France\, to invite each to plunge into\nhis own memory\, to question migratory flow\, the fear and the desire of\nthe other one\, and our representation of the foreigners.\nTUNISIA\, mixes texts and images\, “family archaeology” and fiction\,\ntragedy and humor\, reflection on the history and the colonial present\nof France\, and Tunisia today.
URL:https://afatl.com/event/clyde-chabot-tunisia-in-french/
LOCATION:White Hall 208\, 301 Dowman Dr\, Atlanta\, GA\, 30322\, United States
END:VEVENT
BEGIN:VEVENT
DTSTART;TZID=America/Chicago:20220316T180000
DTEND;TZID=America/Chicago:20220316T190000
DTSTAMP:20260423T155138
CREATED:20220214T171336Z
LAST-MODIFIED:20220214T171336Z
UID:2673-1647453600-1647457200@afatl.com
SUMMARY:Clyde Chabot: Sicilia
DESCRIPTION:Wednesday\, March 16\, at 6pm & 8pm at Convocation Hall \nSICILIA covers the history of migrations in the family of Clyde Chabot\,\nleft Sicily at the end of the 19th century for the United States and\nTunisia then France. She plays it herself around a big table as if the\naudience were her family. She shares with them a bit of Pecorino with\npepper\, the only Sicilian relic that has passed through generations. She\nhas performed this show more than 150 times in France and abroad.
URL:https://afatl.com/event/clyde-chabot-sicilia/
LOCATION:Convocation Hall\, Emory University\, 505 North Kilgo Cir NE\, Atlanta\, GA\, 30307\, United States
END:VEVENT
BEGIN:VEVENT
DTSTART;TZID=America/New_York:20211202T190000
DTEND;TZID=America/New_York:20211202T210000
DTSTAMP:20260423T155138
CREATED:20211116T163158Z
LAST-MODIFIED:20211116T163158Z
UID:2446-1638471600-1638478800@afatl.com
SUMMARY:Climate Crisis & Contemporary Culture: Anthropocene Theatre
DESCRIPTION:Working with the French philosopher and sociologist Bruno Latour\, the theater companies Zone Critique and Lighthouse Company explore in a unique way the most urgent ecological and climatic issues. The joint cultural programming “Climate Crisis & Contemporary Culture” hosted by Alliance Francaise d’Atlanta and Goethe-Zentrum Atlanta offers the exceptional opportunity to discover their work\, around a discussion and two of their acclaimed performances\, Matters and Moving Earths. \nPerformances are $15 for the general public and $10 for Alliance Française members. \nThursday\, Dec. 2\, 2021\, 11 am – 12:30 pm (Auditorium 152 Kendeda Building) Debate\, Discussion and Round Table with Duncan Evennou\, Frédérique Aït Touati\, Clemence Hallé). Also available online: https://bluejeans.com/505638236/6244 \nThursday\, Dec. 2\, 5:00 pm “Matters” Performance\, DramaTech Theatre (Duncan Evennou) \nhttps://artsgatech.universitytickets.com/w/event.aspx?id=2052 \n \nFriday\, Dec. 3\, 5:00 pm “Moving Earth” Performance\, DramaTech Theatre (Duncan Evennou) \nhttps://artsgatech.universitytickets.com/w/event.aspx?id=2053
URL:https://afatl.com/event/climate-crisis-contemporary-culture-anthropocene-theatre/
LOCATION:Dramatech\, 349 Ferst Drive NW\, Atlanta\, GA\, 30332\, United States
END:VEVENT
BEGIN:VEVENT
DTSTART;TZID=America/Chicago:20211009T080000
DTEND;TZID=America/Chicago:20211031T170000
DTSTAMP:20260423T155138
CREATED:20211014T200842Z
LAST-MODIFIED:20211014T200958Z
UID:2394-1633766400-1635699600@afatl.com
SUMMARY:French American Photographer Virginie Kippelen Presents "Lost in Sight" Exhibition
DESCRIPTION:Virginie Kippelen is a French-American photographer who moved from France to Atlanta in 1991. This October\, as part of the Atlanta Celebrates Photography festival\, her exhibition “Lost in Sight” is on display for the first time.\n\nFrom now through October 31st\, visit Virginie Kippelen’s immersive exhibition of pictures of the Flint River headwaters in an industrial container turned art space next to Hapeville’s City Hall.\n\n\nFor a taste of “Lost in Sight”\, read the following:\n\n\nOn any given day\, some 260\,000 passengers fly in and out of Hartsfield-Jackson International Airport in Atlanta. Beneath the tarmac\, unknown to most people\, flows the headwaters of one of the most scenic rivers in the southeastern United States\, the Flint. Back in the 1970s\, the construction of the airport displaced residents and fractured the surrounding neighborhoods. It also buried the river in pipes and culverts\, making it invisible to most. As the airport grew\, the Flint river’s headwaters disappeared from the map and from the community’s shared experience. This long-term documentary work intends to restore a visual identity to a river’s origin that has been lost in sight.\n\n\nIn Virginie’s own words\, “I wanted to offer an immersive experience of the elusive Flint’s headwaters\, with visuals and sound. I covered the floor with an image of a river’s bed to give people the feeling that they are walking in water. It is because people have lost the sight and the experience of the river at its source that they have forgotten about it.” \n\n\n\nThe exhibition is available for viewing by appointment only. Email virginie.kippelen@gmail.com to schedule a viewing. There is no charge for visiting the exhibition. It is located on the pedestrian alley adjacent to the Hapeville City Hall at 3468 North Fulton Avenue.
URL:https://afatl.com/event/french-american-photographer-virginie-kippelen-presents-lost-in-sight-exhibition/
LOCATION:Hapeville City Hall\, 3468 North Fulton Avenue\, Hapeville\, GA\, 30354\, United States
CATEGORIES:Around Town
END:VEVENT
END:VCALENDAR