BEGIN:VCALENDAR
VERSION:2.0
PRODID:-//Alliance Francaise - ECPv6.15.20//NONSGML v1.0//EN
CALSCALE:GREGORIAN
METHOD:PUBLISH
X-ORIGINAL-URL:https://afatl.com
X-WR-CALDESC:Events for Alliance Francaise
REFRESH-INTERVAL;VALUE=DURATION:PT1H
X-Robots-Tag:noindex
X-PUBLISHED-TTL:PT1H
BEGIN:VTIMEZONE
TZID:America/Chicago
BEGIN:DAYLIGHT
TZOFFSETFROM:-0600
TZOFFSETTO:-0500
TZNAME:CDT
DTSTART:20250309T080000
END:DAYLIGHT
BEGIN:STANDARD
TZOFFSETFROM:-0500
TZOFFSETTO:-0600
TZNAME:CST
DTSTART:20251102T070000
END:STANDARD
BEGIN:DAYLIGHT
TZOFFSETFROM:-0600
TZOFFSETTO:-0500
TZNAME:CDT
DTSTART:20260308T080000
END:DAYLIGHT
BEGIN:STANDARD
TZOFFSETFROM:-0500
TZOFFSETTO:-0600
TZNAME:CST
DTSTART:20261101T070000
END:STANDARD
BEGIN:DAYLIGHT
TZOFFSETFROM:-0600
TZOFFSETTO:-0500
TZNAME:CDT
DTSTART:20270314T080000
END:DAYLIGHT
BEGIN:STANDARD
TZOFFSETFROM:-0500
TZOFFSETTO:-0600
TZNAME:CST
DTSTART:20271107T070000
END:STANDARD
END:VTIMEZONE
BEGIN:VEVENT
DTSTART;TZID=America/Chicago:20260121T180000
DTEND;TZID=America/Chicago:20260121T190000
DTSTAMP:20260423T051449
CREATED:20250226T151722Z
LAST-MODIFIED:20260120T213638Z
UID:7133-1769018400-1769022000@afatl.com
SUMMARY:Atelier Huiles Essentielles
DESCRIPTION:Niveau minimum : B1\n\nParticipez à notre atelier huiles essentielles à Roswell\, le 26 février.\n \nExplorez les bienfaits de trois huiles essentielles de bases (Le Tea Tree\, La Ravinstara et l’Eucalyptus) et les précautions d’emplois\, découvrez le processus l’extraction/la fabrication d’une huile essentielle.  \nJoigniez-vous à Isabelle et venez fabriquer votre roll-on personnalisé pour affronter l’hiver. \nINSCRIVEZ VOUS ICI!
URL:https://afatl.com/event/atelier-huiles-essentielles/
LOCATION:alliance francaise roswell
ATTACH;FMTTYPE=image/jpeg:https://afatl.com/wp-content/uploads/2025/02/IMG_9632.jpeg
END:VEVENT
BEGIN:VEVENT
DTSTART;TZID=America/Chicago:20260121T190000
DTEND;TZID=America/Chicago:20260121T210000
DTSTAMP:20260423T051449
CREATED:20250121T160654Z
LAST-MODIFIED:20260115T222418Z
UID:7128-1769022000-1769029200@afatl.com
SUMMARY:January’s Cine-Club | Peachtree Center
DESCRIPTION:  \nABOUT THE MOVIE\nGenre: Drama – Runtime: 1hr 33mns \nStory Line: Colin\, a 14-year-old who has just started at a new school\, panics about how he will cope since he stutters. His encounter with Monsieur Devarseau\, a charismatic French teacher\, pushes him to confront his fears and break out of his isolation \nThis film is not rated by the Classification and Rating Board of the United States. Please\, watch the trailers before purchasing your tickets. \n\nABOUT THE EVENT\nBefore the movie (doors open at 6:30pm)\, enjoy refreshments with charcuterie board and cheese. Movie starts at 7pm. \n\nCOST\nThe price for one ticket is $10\, however\, our Alliance Française ATL members receive one FREE ticket (use the EXCLUSIVE promo code sent to member’s only emails). Become a member today! and claim your FREE ticket. https://afatl.com/membership/ \n\nCLICK HERE TO GET YOUR TICKETS TO THE CINE-CLUB!
URL:https://afatl.com/event/januarys-cine-club-peachtree-center/
LOCATION:Alliance Francaise Atlanta\, 233 Peachtree St. NE\, Atlanta\, GA\, 30303\, United States
ATTACH;FMTTYPE=image/jpeg:https://afatl.com/wp-content/uploads/2025/01/IMG_9628.jpeg
END:VEVENT
BEGIN:VEVENT
DTSTART;TZID=America/Chicago:20260122T183000
DTEND;TZID=America/Chicago:20260122T210000
DTSTAMP:20260423T051449
CREATED:20250122T202831Z
LAST-MODIFIED:20251229T182831Z
UID:7077-1769106600-1769115600@afatl.com
SUMMARY:Discover Alsace
DESCRIPTION:Discover how French and German culture come together in the region of Alsace.\n\n\n\nStep into Alsace\, where French and German cultures meet! Join us for a fun\, interactive evening exploring this unique border region and learning about the Élysée Treaty. Hear first-hand stories from people originally from Alsace\, learn a few Alsatian words\, and enjoy tasting traditional Alsatian food. \nThe event will be held in English\, but you’ll be introduced to the Alsatian language and culture along the way. Enjoy a night full of culture\, conversation\, and good food. \n**Members of the Alliance Française/ Goethe Zentrum – A promo code will be sent to your e-mail soon. \nCLICK HERE FOR TICKETS/MORE INFO!
URL:https://afatl.com/event/discover-alsace/
LOCATION:Alliance Francaise Atlanta\, 233 Peachtree St. NE\, Atlanta\, GA\, 30303\, United States
ATTACH;FMTTYPE=image/jpeg:https://afatl.com/wp-content/uploads/2025/12/IMG_9585.jpeg
END:VEVENT
BEGIN:VEVENT
DTSTART;TZID=America/Chicago:20260128T193000
DTEND;TZID=America/Chicago:20260128T210000
DTSTAMP:20260423T051449
CREATED:20250128T161033Z
LAST-MODIFIED:20260115T222507Z
UID:7130-1769628600-1769634000@afatl.com
SUMMARY:January’s Ciné-Club | Roswell Center
DESCRIPTION:ABOUT THE MOVIE\nGenre: Drama – Runtime: 1hr 33mns \nStory Line: Colin\, a 14-year-old who has just started at a new school\, panics about how he will cope since he stutters. His encounter with Monsieur Devarseau\, a charismatic French teacher\, pushes him to confront his fears and break out of his isolation. \nThis film is not rated by the Classification and Rating Board of the United States. Please\, watch the trailers before purchasing your tickets. \n\nABOUT THE EVENT\nBefore the movie (doors open at 7:00pm)\, enjoy refreshments with charcuterie board and cheese. Movie starts at 7:30pm. \n\nCOST\nThe price for one ticket is $10\, however\, our Alliance Française ATL members receive one FREE ticket (use the EXCLUSIVE promo code sent to member’s only emails). Become a member today! and claim your FREE ticket. https://afatl.com/membership/ \n\nCLICK HERE TO GET YOUR TICKETS TO THE CINE-CLUB!
URL:https://afatl.com/event/januarys-cine-club-roswell-center/
LOCATION:alliance francaise roswell
ATTACH;FMTTYPE=image/jpeg:https://afatl.com/wp-content/uploads/2025/01/IMG_9628.jpeg
END:VEVENT
BEGIN:VEVENT
DTSTART;TZID=America/Chicago:20260211T200000
DTEND;TZID=America/Chicago:20260211T213000
DTSTAMP:20260423T051449
CREATED:20250211T184049Z
LAST-MODIFIED:20251229T184111Z
UID:7100-1770840000-1770845400@afatl.com
SUMMARY:Edith Piaf - 110th Anniversary Tour!
DESCRIPTION:Celebrate the 110th Anniversary of Edith Piaf – A Timeless Legend \nFrench Sensation PIAF! THE SHOW comes to: \nLos Angeles\, Miami\, Atlanta\, and Houston in February 2026. \nFEBRUARY 7\, Los Angeles\, CA | Wilshire Ebell Theatre \nFEBRUARY 10\, Miami\, FL | Adrienne Arsht Center \nFEBRUARY 11\, 2026 Atlanta\, GA | Byers Theatre  \nFEBRUARY 12\, 2026 Houston\, TX | Cullen Theater \nStep into the world of Edith Piaf\, the greatest francophone artist of all time\, as Piaf! The Show embarks on an extraordinary global tour to honor the 110th anniversary of La Môme. \nThis spectacular production brings Piaf’s iconic story to life through exceptional new scenography that transports audiences from the bustling streets of Montmartre to the legendary Olympia in Paris. Experience her timeless songs and unforgettable legacy in a performance that captures her indomitable spirit. \n  \nMORE INFO/BUY TICKETS HERE!
URL:https://afatl.com/event/edith-piaf-110th-anniversary-tour/
LOCATION:GA
ATTACH;FMTTYPE=image/png:https://afatl.com/wp-content/uploads/2025/12/IMG_9582.png
END:VEVENT
BEGIN:VEVENT
DTSTART;TZID=America/Chicago:20260304T180000
DTEND;TZID=America/Chicago:20260304T200000
DTSTAMP:20260423T051449
CREATED:20250304T201027Z
LAST-MODIFIED:20260226T201207Z
UID:7282-1772647200-1772654400@afatl.com
SUMMARY:The Human Side of AI in Healthcare
DESCRIPTION:The Human Side of Artificial Intelligence in Healthcare\nQuand l’intelligence artificielle rencontre l’humain en santé \nJoin us for a scientific event exploring the powerful intersection of artificial intelligence and health\, bringing together three leading experts representing France\, Belgium\, and Québec. Each of them will offer a short presentation to share their unique perspective on this topic and set the stage for a rich and informed panel discussion. Moderated by Pascal Van Hentenryck\, the conversation will dive into the evolution of AI through the lens of neurology\, unpack how AI models are built for healthcare applications\, and spark thoughtful reflection on AI\, intelligence\, and consciousness. The session will conclude with an interactive Q&A (in French and English)\, inviting the audience to challenge ideas\, ask bold questions\, and join the debate shaping the future of health innovation. \nPLEASE NOTE THE PRESENTATIONS WILL BE IN FRENCH. \nAlthough scientific in its nature\, this event is open and accessible to all\, regardless of your knowledge on the topic. \n  \nLocation: Peachtree Center \nTime: March 4th | 6-8PM \nCost: FREE \n  \nLEARN MORE/GET YOUR FREE TICKETS HERE!
URL:https://afatl.com/event/the-human-side-of-ai-in-healthcare/
LOCATION:Alliance Francaise Atlanta\, 233 Peachtree St. NE\, Atlanta\, GA\, 30303\, United States
ATTACH;FMTTYPE=image/webp:https://afatl.com/wp-content/uploads/2026/02/IMG_9819.webp
END:VEVENT
BEGIN:VEVENT
DTSTART;TZID=America/Chicago:20260314T123000
DTEND;TZID=America/Chicago:20260314T133000
DTSTAMP:20260423T051449
CREATED:20250314T191639Z
LAST-MODIFIED:20260226T201703Z
UID:7287-1773491400-1773495000@afatl.com
SUMMARY:Doctors by Nature: How Ants\, Apes\, and Other Animals Heal Themselves | Author Talk
DESCRIPTION:Join us for a captivating presentation that uncovers the astonishing medical practices found across the animal kingdom — from insects to carnivores\, birds to primates. An eye‑opening exploration that reshapes our understanding of medicine\, evolution\, and the natural world. \nAlthough scientific in its nature\, this event is open and accessible to all\, regardless of your knowledge on the topic. Children are also welcome! \nPLEASE NOTE THIS EVENT WILL BE IN ENGLISH \nLocation: Peachtree Center \nWhen: March 14th | 12:30 – 1:30PM \nCost: FREE \nLEARN MORE/GET YOUR FREE TICKETS HERE!
URL:https://afatl.com/event/doctors-by-nature-how-ants-apes-and-other-animals-heal-themselves-author-talk/
LOCATION:Alliance Francaise Atlanta\, 233 Peachtree St. NE\, Atlanta\, GA\, 30303\, United States
ATTACH;FMTTYPE=image/webp:https://afatl.com/wp-content/uploads/2026/02/IMG_9820.webp
END:VEVENT
BEGIN:VEVENT
DTSTART;TZID=America/Chicago:20260316T190000
DTEND;TZID=America/Chicago:20260316T210000
DTSTAMP:20260423T051449
CREATED:20250316T192136Z
LAST-MODIFIED:20260226T202158Z
UID:7290-1773687600-1773694800@afatl.com
SUMMARY:“Claude McKay\, wanderings of a rebellious poet” | Film Screening
DESCRIPTION:A rebellious voice of the Harlem Renaissance\, Jamaican poet Claude McKay spent two decades traveling the world\, immersing himself in artistic and political avant-gardes while building an enduring body of work. \nFrom Jamaica to Morocco\, via USA\, England\, Russia and France\, this film is a captivating voyage through the 1920s in the footsteps of this great vagabond writer. \nThis remarkable documentary portrait\, illustrated with rare archival footage and photographs\, told by his own words narrated by Gaël Faye\, and set to a stirring soundtrack\, brings his legacy to life. His famous century-old anti-lynching poem If We Must Die resonates with today’s Black Lives Matter movement\, revealing continuities of struggles and resistance he inspired. \nLocation: Peachtree Center \nWhen: March 16th | 7 – 9PM \nCost: FREE \n  \nCLICK HERE TO LEARN MORE/GET YOUR FREE TICKETS!
URL:https://afatl.com/event/claude-mckay-wanderings-of-a-rebellious-poet-film-screening/
LOCATION:Alliance Francaise Atlanta\, 233 Peachtree St. NE\, Atlanta\, GA\, 30303\, United States
ATTACH;FMTTYPE=image/webp:https://afatl.com/wp-content/uploads/2026/02/IMG_9822.webp
END:VEVENT
BEGIN:VEVENT
DTSTART;TZID=America/Chicago:20260318T190000
DTEND;TZID=America/Chicago:20260318T210000
DTSTAMP:20260423T051449
CREATED:20250318T192544Z
LAST-MODIFIED:20260226T202605Z
UID:7295-1773860400-1773867600@afatl.com
SUMMARY:Francophone Short Film Night
DESCRIPTION:Join us for a Francophone movie night\, as we get together to enjoy a selection of  short films from French-speaking countries. \n  \nLocation: Peachtree Center \nWhen: March 18th | 7 – 9PM \nCost: FREE \n  \nLEARN MORE/SIGN UP FOR FREE HERE!
URL:https://afatl.com/event/francophone-short-film-night/
LOCATION:GA
ATTACH;FMTTYPE=image/webp:https://afatl.com/wp-content/uploads/2026/02/IMG_9823.webp
END:VEVENT
BEGIN:VEVENT
DTSTART;TZID=America/Chicago:20260331T160000
DTEND;TZID=America/Chicago:20260331T180000
DTSTAMP:20260423T051449
CREATED:20250331T192824Z
LAST-MODIFIED:20260226T202848Z
UID:7297-1774972800-1774980000@afatl.com
SUMMARY:International Francophone Career Fair
DESCRIPTION:Connect with global French-speaking companies and discover career opportunities at our Francophone Career Fair \nJoin us for the third edition of the International Francophone Career Fair\, a must-attend event for job seekers and employers alike! This exciting in-person event will be held at the Alliance Française of Atlanta (233 Peachtree Street Northeast\, Atlanta\, GA\, USA). \nWhether you are a recent graduate\, a seasoned professional\, or simply looking for new opportunities\, this fair offers a unique platform to connect with top companies and explore a wide range of French-speaking career options. \nLocation: Peachtree Center \nWhen: March 31st | 4 – 6PM \nCost: FREE \nLEARN MORE/SIGN UP FOR FREE HERE!
URL:https://afatl.com/event/international-francophone-career-fair-2/
LOCATION:GA
ATTACH;FMTTYPE=image/webp:https://afatl.com/wp-content/uploads/2026/02/IMG_9824.webp
END:VEVENT
END:VCALENDAR