BEGIN:VCALENDAR
VERSION:2.0
PRODID:-//Alliance Francaise - ECPv6.15.20//NONSGML v1.0//EN
CALSCALE:GREGORIAN
METHOD:PUBLISH
X-ORIGINAL-URL:https://afatl.com
X-WR-CALDESC:Events for Alliance Francaise
REFRESH-INTERVAL;VALUE=DURATION:PT1H
X-Robots-Tag:noindex
X-PUBLISHED-TTL:PT1H
BEGIN:VTIMEZONE
TZID:America/Chicago
BEGIN:DAYLIGHT
TZOFFSETFROM:-0600
TZOFFSETTO:-0500
TZNAME:CDT
DTSTART:20230312T080000
END:DAYLIGHT
BEGIN:STANDARD
TZOFFSETFROM:-0500
TZOFFSETTO:-0600
TZNAME:CST
DTSTART:20231105T070000
END:STANDARD
BEGIN:DAYLIGHT
TZOFFSETFROM:-0600
TZOFFSETTO:-0500
TZNAME:CDT
DTSTART:20240310T080000
END:DAYLIGHT
BEGIN:STANDARD
TZOFFSETFROM:-0500
TZOFFSETTO:-0600
TZNAME:CST
DTSTART:20241103T070000
END:STANDARD
BEGIN:DAYLIGHT
TZOFFSETFROM:-0600
TZOFFSETTO:-0500
TZNAME:CDT
DTSTART:20250309T080000
END:DAYLIGHT
BEGIN:STANDARD
TZOFFSETFROM:-0500
TZOFFSETTO:-0600
TZNAME:CST
DTSTART:20251102T070000
END:STANDARD
END:VTIMEZONE
BEGIN:VEVENT
DTSTART;TZID=America/Chicago:20240325T180000
DTEND;TZID=America/Chicago:20240325T190000
DTSTAMP:20260423T065729
CREATED:20240318T144935Z
LAST-MODIFIED:20240318T202837Z
UID:5256-1711389600-1711393200@afatl.com
SUMMARY:Songs from Carmen\, the Opera by Bizet
DESCRIPTION:Round table discussion and live performances of excerpts from the opera\, Carmen\, with the opera singers from the Georgia State Opera Theater!  \nHow does music keep the French language alive?  \nOn March 25th\, at 6pm (doors open at 5:30pm)\, the Alliance Française Atlanta is welcoming the cast of GSU’s Carmen for live excerpts accompany by a pianist and a round table discussion\, followed by a Q&A in its auditorium (please see the map below for access). \nExperience the timeless allure of Georges Bizet’s beloved opera\, “Carmen\,” presented by the Georgia State Opera Theater. Immerse yourself in a captivating tale of love\, jealousy\, fate\, and revenge. \nThey will transport you to a world where passion ignites and destinies collide. \nThe full production of the show will be at the Rialto theater on April 13th\, 7pm and April 14th\, 3pm. For more information about the full production click here: “Carmen” by Georges Bizet – Georgia State University (gsu.edu) \nADMISSION TO THE DISCUSSION AND EXCERPTS WITH THE AF IS FREE! \nPlease register for the event at this Eventbrite link. \n 
URL:https://afatl.com/event/introduction-to-carmen-the-opera-by-bizet/
LOCATION:Alliance Francaise Atlanta\, 233 Peachtree St. NE\, Atlanta\, GA\, 30303\, United States
ATTACH;FMTTYPE=image/jpeg:https://afatl.com/wp-content/uploads/2024/03/IMG_6530.jpeg
END:VEVENT
END:VCALENDAR