BEGIN:VCALENDAR
VERSION:2.0
PRODID:-//Alliance Francaise - ECPv6.15.20//NONSGML v1.0//EN
CALSCALE:GREGORIAN
METHOD:PUBLISH
X-WR-CALNAME:Alliance Francaise
X-ORIGINAL-URL:https://afatl.com
X-WR-CALDESC:Events for Alliance Francaise
REFRESH-INTERVAL;VALUE=DURATION:PT1H
X-Robots-Tag:noindex
X-PUBLISHED-TTL:PT1H
BEGIN:VTIMEZONE
TZID:America/Chicago
BEGIN:DAYLIGHT
TZOFFSETFROM:-0600
TZOFFSETTO:-0500
TZNAME:CDT
DTSTART:20230312T080000
END:DAYLIGHT
BEGIN:STANDARD
TZOFFSETFROM:-0500
TZOFFSETTO:-0600
TZNAME:CST
DTSTART:20231105T070000
END:STANDARD
BEGIN:DAYLIGHT
TZOFFSETFROM:-0600
TZOFFSETTO:-0500
TZNAME:CDT
DTSTART:20240310T080000
END:DAYLIGHT
BEGIN:STANDARD
TZOFFSETFROM:-0500
TZOFFSETTO:-0600
TZNAME:CST
DTSTART:20241103T070000
END:STANDARD
BEGIN:DAYLIGHT
TZOFFSETFROM:-0600
TZOFFSETTO:-0500
TZNAME:CDT
DTSTART:20250309T080000
END:DAYLIGHT
BEGIN:STANDARD
TZOFFSETFROM:-0500
TZOFFSETTO:-0600
TZNAME:CST
DTSTART:20251102T070000
END:STANDARD
END:VTIMEZONE
BEGIN:VEVENT
DTSTART;TZID=America/Chicago:20240320T193000
DTEND;TZID=America/Chicago:20240320T213000
DTSTAMP:20260423T065606
CREATED:20240222T161745Z
LAST-MODIFIED:20240311T172941Z
UID:5179-1710963000-1710970200@afatl.com
SUMMARY:March 2024 Ciné-Club
DESCRIPTION:Movie Summary\nA comedy that reflects on Algerian culture\, family ties\, immigration\, lies and literature\, Youssef Salem a du succès\, directed by Baya Kasmi\, follows A Maghrebi novelist struggling with the pros and cons of overnight success after publishing a book about his family. Youssef Salem’s book\, “Toxic Shock”\, is a success. The troubles begin\, in particular because\, in his novel\, Youssef makes fun of his family whom he loves dearly. \nImportant Information\nThe movie will be provided in French with English subtitles. \nTime: Doors will open at 7:00pm\, the movie will start at 7:30pm \nLocation: Alliance Française ATL Peachtree center location – 233 Peachtree St. NE Suite#100 Atlanta\, GA 30303 \nParking: Validation will be provided for those who park at the International Parking Garage on Andrew Young Blvd. (Across the street from the Tin Lizzy’s.) \nCost: The price for one ticket is $10\, however\, our Alliance Française members receive a FREE ticket. \nFOR OUR AF MEMBERS: You will receive a discount code in your email shortly that when applied during checkout will give you your free ticket. \nSign up: To purchase a ticket\, register for the event at this Eventbrite page.
URL:https://afatl.com/event/march-2024-cine-club/
LOCATION:Alliance Francaise Atlanta\, 233 Peachtree St. NE\, Atlanta\, GA\, 30303\, United States
ATTACH;FMTTYPE=image/jpeg:https://afatl.com/wp-content/uploads/2024/02/IMG_6497.jpeg
END:VEVENT
END:VCALENDAR