BEGIN:VCALENDAR
VERSION:2.0
PRODID:-//Alliance Francaise - ECPv6.15.20//NONSGML v1.0//EN
CALSCALE:GREGORIAN
METHOD:PUBLISH
X-ORIGINAL-URL:https://afatl.com
X-WR-CALDESC:Events for Alliance Francaise
REFRESH-INTERVAL;VALUE=DURATION:PT1H
X-Robots-Tag:noindex
X-PUBLISHED-TTL:PT1H
BEGIN:VTIMEZONE
TZID:America/Chicago
BEGIN:DAYLIGHT
TZOFFSETFROM:-0600
TZOFFSETTO:-0500
TZNAME:CDT
DTSTART:20230312T080000
END:DAYLIGHT
BEGIN:STANDARD
TZOFFSETFROM:-0500
TZOFFSETTO:-0600
TZNAME:CST
DTSTART:20231105T070000
END:STANDARD
BEGIN:DAYLIGHT
TZOFFSETFROM:-0600
TZOFFSETTO:-0500
TZNAME:CDT
DTSTART:20240310T080000
END:DAYLIGHT
BEGIN:STANDARD
TZOFFSETFROM:-0500
TZOFFSETTO:-0600
TZNAME:CST
DTSTART:20241103T070000
END:STANDARD
BEGIN:DAYLIGHT
TZOFFSETFROM:-0600
TZOFFSETTO:-0500
TZNAME:CDT
DTSTART:20250309T080000
END:DAYLIGHT
BEGIN:STANDARD
TZOFFSETFROM:-0500
TZOFFSETTO:-0600
TZNAME:CST
DTSTART:20251102T070000
END:STANDARD
END:VTIMEZONE
BEGIN:VEVENT
DTSTART;TZID=America/Chicago:20240221T190000
DTEND;TZID=America/Chicago:20240221T213000
DTSTAMP:20260423T082658
CREATED:20240125T201320Z
LAST-MODIFIED:20240212T165747Z
UID:5133-1708542000-1708551000@afatl.com
SUMMARY:February 2024’s Monthly Ciné-Club
DESCRIPTION:This February\, Alliance Française Atlanta’s Ciné-Club presents\, “Tout Simplement Noir” (Simply Black). \n \nMovie Summary\nJP\, a failed actor in his forties\, comes up with the idea of organizing a large march for Black men in Paris to protest against the underrepresentation of Black people in society and media. To support this project\, he tries to meet influential figures from the Black community\, including comedians Fary and Éric Judor\, rappers Soprano and Joey Starr. He quickly finds out that many Black people\, even if initially agreeing with his idea\, have very different conceptions of their Black identity. \nImportant Information\nThe movie will be provided in French with English subtitles. \nTime: Doors will open at 7:00pm\, the movie will start at 7:30pm \nLocation: Alliance Française ATL Peachtree center location – 233 Peachtree St. NE Suite#100 Atlanta\, GA 30303 \nParking: Validation will be provided for those who park at the International Parking Garage on Andrew Young Blvd. (Across the street from the Tin Lizzy’s.) \nCost: The price for one ticket is $10\, however\, our Alliance Française members receive a FREE ticket. \nFOR OUR AF MEMBERS: You will receive a discount code in your email shortly that when applied during checkout will give you your free ticket. \nSign up: To purchase a ticket\, register for the event at the Eventbrite page linked right here.  \n 
URL:https://afatl.com/event/february-2024s-monthly-cine-club/
LOCATION:Alliance Francaise Atlanta\, 233 Peachtree St. NE\, Atlanta\, GA\, 30303\, United States
ATTACH;FMTTYPE=image/jpeg:https://afatl.com/wp-content/uploads/2024/01/IMG_6274.jpeg
END:VEVENT
END:VCALENDAR