BEGIN:VCALENDAR
VERSION:2.0
PRODID:-//Alliance Francaise - ECPv6.15.20//NONSGML v1.0//EN
CALSCALE:GREGORIAN
METHOD:PUBLISH
X-WR-CALNAME:Alliance Francaise
X-ORIGINAL-URL:https://afatl.com
X-WR-CALDESC:Events for Alliance Francaise
REFRESH-INTERVAL;VALUE=DURATION:PT1H
X-Robots-Tag:noindex
X-PUBLISHED-TTL:PT1H
BEGIN:VTIMEZONE
TZID:America/Chicago
BEGIN:DAYLIGHT
TZOFFSETFROM:-0600
TZOFFSETTO:-0500
TZNAME:CDT
DTSTART:20220313T080000
END:DAYLIGHT
BEGIN:STANDARD
TZOFFSETFROM:-0500
TZOFFSETTO:-0600
TZNAME:CST
DTSTART:20221106T070000
END:STANDARD
BEGIN:DAYLIGHT
TZOFFSETFROM:-0600
TZOFFSETTO:-0500
TZNAME:CDT
DTSTART:20230312T080000
END:DAYLIGHT
BEGIN:STANDARD
TZOFFSETFROM:-0500
TZOFFSETTO:-0600
TZNAME:CST
DTSTART:20231105T070000
END:STANDARD
BEGIN:DAYLIGHT
TZOFFSETFROM:-0600
TZOFFSETTO:-0500
TZNAME:CDT
DTSTART:20240310T080000
END:DAYLIGHT
BEGIN:STANDARD
TZOFFSETFROM:-0500
TZOFFSETTO:-0600
TZNAME:CST
DTSTART:20241103T070000
END:STANDARD
END:VTIMEZONE
BEGIN:VEVENT
DTSTART;TZID=America/Chicago:20230714T180000
DTEND;TZID=America/Chicago:20230714T180000
DTSTAMP:20260423T212624
CREATED:20230714T230041Z
LAST-MODIFIED:20230718T213635Z
UID:4525-1689357600-1689357600@afatl.com
SUMMARY:Bastille Day celebration
DESCRIPTION:July 14th we had the pleasure of co-hosting a Bastille Day celebration with the Consulate General of France of Atlanta. Thank you to everyone who attended the French National Day celebration. Your presence and participation made this event a resounding success and a true reflection of the spirit of solidarity and unity.\n\n\nMerci beaucoup!
URL:https://afatl.com/event/bastille-day-celebration-2/
LOCATION:GA
CATEGORIES:Annual Event
ATTACH;FMTTYPE=image/jpeg:https://afatl.com/wp-content/uploads/2023/07/53053034152_3cb57e4e01_c.jpg
END:VEVENT
END:VCALENDAR