BEGIN:VCALENDAR
VERSION:2.0
PRODID:-//Alliance Francaise - ECPv6.15.20//NONSGML v1.0//EN
CALSCALE:GREGORIAN
METHOD:PUBLISH
X-WR-CALNAME:Alliance Francaise
X-ORIGINAL-URL:https://afatl.com
X-WR-CALDESC:Events for Alliance Francaise
REFRESH-INTERVAL;VALUE=DURATION:PT1H
X-Robots-Tag:noindex
X-PUBLISHED-TTL:PT1H
BEGIN:VTIMEZONE
TZID:America/Chicago
BEGIN:DAYLIGHT
TZOFFSETFROM:-0600
TZOFFSETTO:-0500
TZNAME:CDT
DTSTART:20220313T080000
END:DAYLIGHT
BEGIN:STANDARD
TZOFFSETFROM:-0500
TZOFFSETTO:-0600
TZNAME:CST
DTSTART:20221106T070000
END:STANDARD
BEGIN:DAYLIGHT
TZOFFSETFROM:-0600
TZOFFSETTO:-0500
TZNAME:CDT
DTSTART:20230312T080000
END:DAYLIGHT
BEGIN:STANDARD
TZOFFSETFROM:-0500
TZOFFSETTO:-0600
TZNAME:CST
DTSTART:20231105T070000
END:STANDARD
BEGIN:DAYLIGHT
TZOFFSETFROM:-0600
TZOFFSETTO:-0500
TZNAME:CDT
DTSTART:20240310T080000
END:DAYLIGHT
BEGIN:STANDARD
TZOFFSETFROM:-0500
TZOFFSETTO:-0600
TZNAME:CST
DTSTART:20241103T070000
END:STANDARD
END:VTIMEZONE
BEGIN:VEVENT
DTSTART;TZID=America/Chicago:20230711T183000
DTEND;TZID=America/Chicago:20230711T210000
DTSTAMP:20260423T212711
CREATED:20230702T183407Z
LAST-MODIFIED:20230706T180746Z
UID:4464-1689100200-1689109200@afatl.com
SUMMARY:Cinéclub: Délicieux
DESCRIPTION:Join Alliançe Française Atlanta for the second showing of the Alliance Française Cinéclub\, a monthly gathering to screen and discuss the best in French-language cinema! Created to highlight the diversity of French-language cinema and promote access to French films\, Cinéclub is a monthy event at the Alliance. Screenings\, held live in the auditorium of the Franco-German Center\, feature a mix of French classics\, new\, must-see releases\, and crowd-pleasers from France and elsewhere. \nPlease join us Tuesday\, July 11 – Reception at 6:30 pm\, followed by the screening (7PM) of Délicieux (Delicious)\, a French comedy directed by Eric Besnard\, from 7 to 9 pm. \nFREE event but spaces are limited.\nRegister HERE \nCheck our Upcoming Events page to see what’s showing next!
URL:https://afatl.com/event/cineclub-delicieux/
LOCATION:GA
CATEGORIES:Cinéclub
ATTACH;FMTTYPE=image/png:https://afatl.com/wp-content/uploads/2023/06/cineclub-events.png
END:VEVENT
END:VCALENDAR