BEGIN:VCALENDAR
VERSION:2.0
PRODID:-//Alliance Francaise - ECPv6.15.20//NONSGML v1.0//EN
CALSCALE:GREGORIAN
METHOD:PUBLISH
X-WR-CALNAME:Alliance Francaise
X-ORIGINAL-URL:https://afatl.com
X-WR-CALDESC:Events for Alliance Francaise
REFRESH-INTERVAL;VALUE=DURATION:PT1H
X-Robots-Tag:noindex
X-PUBLISHED-TTL:PT1H
BEGIN:VTIMEZONE
TZID:America/Chicago
BEGIN:DAYLIGHT
TZOFFSETFROM:-0600
TZOFFSETTO:-0500
TZNAME:CDT
DTSTART:20220313T080000
END:DAYLIGHT
BEGIN:STANDARD
TZOFFSETFROM:-0500
TZOFFSETTO:-0600
TZNAME:CST
DTSTART:20221106T070000
END:STANDARD
BEGIN:DAYLIGHT
TZOFFSETFROM:-0600
TZOFFSETTO:-0500
TZNAME:CDT
DTSTART:20230312T080000
END:DAYLIGHT
BEGIN:STANDARD
TZOFFSETFROM:-0500
TZOFFSETTO:-0600
TZNAME:CST
DTSTART:20231105T070000
END:STANDARD
BEGIN:DAYLIGHT
TZOFFSETFROM:-0600
TZOFFSETTO:-0500
TZNAME:CDT
DTSTART:20240310T080000
END:DAYLIGHT
BEGIN:STANDARD
TZOFFSETFROM:-0500
TZOFFSETTO:-0600
TZNAME:CST
DTSTART:20241103T070000
END:STANDARD
END:VTIMEZONE
BEGIN:VEVENT
DTSTART;TZID=America/Chicago:20230706T080000
DTEND;TZID=America/Chicago:20230706T170000
DTSTAMP:20260423T212624
CREATED:20230706T180353Z
LAST-MODIFIED:20230706T180353Z
UID:4489-1688630400-1688662800@afatl.com
SUMMARY:Summer Session
DESCRIPTION:Interested in developing your language skills and immersing yourself into a new culture?\n\nOur Summer Session Starts on June 10th!\nRegister here for an Alliance Française Atlanta class this summer!\n\nOur Summer session runs from July 10th to September 18th – 10 weeks of engaging learning with Atlanta’s best French teachers. This session\, courses from beginner to advanced will be offered at our Peachtree Center and Roswell locations\, as well as online!\n\nCourses have a limited number of available spots\, so register now and spend your summer with Alliance Française Atlanta!
URL:https://afatl.com/event/summer-session/
LOCATION:GA
ATTACH;FMTTYPE=image/png:https://afatl.com/wp-content/uploads/2023/05/SUMMER-BANDEAUV2.png
END:VEVENT
END:VCALENDAR