BEGIN:VCALENDAR
VERSION:2.0
PRODID:-//Alliance Francaise - ECPv6.15.20//NONSGML v1.0//EN
CALSCALE:GREGORIAN
METHOD:PUBLISH
X-WR-CALNAME:Alliance Francaise
X-ORIGINAL-URL:https://afatl.com
X-WR-CALDESC:Events for Alliance Francaise
REFRESH-INTERVAL;VALUE=DURATION:PT1H
X-Robots-Tag:noindex
X-PUBLISHED-TTL:PT1H
BEGIN:VTIMEZONE
TZID:America/New_York
BEGIN:DAYLIGHT
TZOFFSETFROM:-0500
TZOFFSETTO:-0400
TZNAME:EDT
DTSTART:20220313T070000
END:DAYLIGHT
BEGIN:STANDARD
TZOFFSETFROM:-0400
TZOFFSETTO:-0500
TZNAME:EST
DTSTART:20221106T060000
END:STANDARD
BEGIN:DAYLIGHT
TZOFFSETFROM:-0500
TZOFFSETTO:-0400
TZNAME:EDT
DTSTART:20230312T070000
END:DAYLIGHT
BEGIN:STANDARD
TZOFFSETFROM:-0400
TZOFFSETTO:-0500
TZNAME:EST
DTSTART:20231105T060000
END:STANDARD
BEGIN:DAYLIGHT
TZOFFSETFROM:-0500
TZOFFSETTO:-0400
TZNAME:EDT
DTSTART:20240310T070000
END:DAYLIGHT
BEGIN:STANDARD
TZOFFSETFROM:-0400
TZOFFSETTO:-0500
TZNAME:EST
DTSTART:20241103T060000
END:STANDARD
END:VTIMEZONE
BEGIN:VEVENT
DTSTART;TZID=America/New_York:20230621T183000
DTEND;TZID=America/New_York:20230621T210000
DTSTAMP:20260423T231139
CREATED:20230629T174202Z
LAST-MODIFIED:20230629T174251Z
UID:4427-1687372200-1687381200@afatl.com
SUMMARY:Cinéclub: La Croisade
DESCRIPTION:Join Alliançe Française Atlanta for the inaugural edition of the Alliance Française Cinéclub\, a monthly gathering to screen and discuss the best in French-language cinema! \nCreated to highlight the diversity of French-language cinema and promote access to French films\, Cinéclub will be a monthy event at the Alliance. Screenings\, held live in the auditorium of the Franco-German Center\, will feature a mix of French classics\, new\, must-see releases\, and crowd-pleasers from France and elsewhere. \nPlease join us Wednesday\, June 21 to learn more about this exciting addition to our AFATL cultural programming.\nReception at 6:30 pm\, followed by the screening (7PM) of La Croisade (The Croisade)\, a French comedy directed by Louis Garrel\, from 7 to 9 pm. \nFREE event but spaces are limited.\nRegister HERE \nCheck our Upcoming Events page to see what’s showing next!\n  \n\n 
URL:https://afatl.com/event/cineclub-la-croisade/
LOCATION:GA
ATTACH;FMTTYPE=image/png:https://afatl.com/wp-content/uploads/2023/06/eventbritecroisade.png
END:VEVENT
END:VCALENDAR